BEGIN:VCALENDAR
VERSION:2.0
PRODID:-//wp-events-plugin.com//7.2.3.1//EN
TZID:Europe/Rome
X-WR-TIMEZONE:Europe/Rome
BEGIN:VEVENT
UID:0-2@imperia.ils.org
DTSTART;TZID=Europe/Rome:20251025T143000
DTEND;TZID=Europe/Rome:20251025T180000
DTSTAMP:20250927T215809Z
URL:https://imperia.ils.org/events/linux-day-2025/
SUMMARY:Linux Day 2025
DESCRIPTION:\n\n\n\n\n\n\nDI COSA SI TRATTA?\nIl Linux Day è la principale
  manifestazione nazionale dedicata a Linux\, al software libero e open so
 urce\, e alle libertà digitali.\nEventi\, raduni e conferenze si svolgono
  in tutta Italia nello stesso giorno (quest'anno\, sabato 25 ottobre)\, e
  ovviamente anche ad Imperia.\n\nLa manifestazione è rivolta a tutti col
 oro che vogliono saperne di più su Linux\, da chi ne ha solo sentito parl
 are a chi già lo adopera ogni giorno per diletto o per lavoro.\nL'ingress
 o è libero e gratuito\, e non è necessario registrarsi per partecipare.
 \n\nQuest'anno il Linux Day offrirà:\n\n 	Talk     ➤   4 presentaz
 ioni su temi legati al software libero\, tenute da appassionati/nerd\n 	In
 stall Party    ➤    ti aiutiamo ad installare Linux se porti il tuo
  PC e te lo facciamo provare sui nostri se sei curioso e non lo hai mai pr
 ovato\n 	Gadgets  ➤   Stickers\, spillette rigorosamente a tema Linux
 \n\nCOSA VI ASPETTA?\nL'area Install Party sarà disponibile per l'intero 
 pomeriggio\, i talk seguiranno invece la scaletta qui sotto:\n\nQui sotto 
 la scaletta con gli orari deli nostri Talk:\n\n 	14:30   ➤  Apertura\
 n 	14:45   ➤  OpenStreetMap: liberi di conoscere liberi di condivider
 e\n 	15:40   ➤  #MovimentoNoBloat: La risposta al software pericolosa
 mente complicato\n 	16:30   ➤  3-2-1...Backup!\n 	17:20   ➤  Fed
 iverso\, l'Internet del mutuo appoggio: una vasta rete di moltitudini di p
 ersone pronte a aiutarsi a vicenda.\n 	18:00   ➤  Chiusura\n\n\n&nbsp
 \;\n\n&nbsp\;
ATTACH;FMTTYPE=image/jpeg:https://imperia.ils.org/wp-content/uploads/sites
 /9/2024/10/linux_day.png
LOCATION:https://www.openstreetmap.org/?#map=19/43.888003/8.040556
END:VEVENT
BEGIN:VTIMEZONE
TZID:Europe/Rome
X-LIC-LOCATION:Europe/Rome
BEGIN:DAYLIGHT
DTSTART:20250330T030000
TZOFFSETFROM:+0100
TZOFFSETTO:+0200
TZNAME:CEST
END:DAYLIGHT
END:VTIMEZONE
END:VCALENDAR